BEGIN:VCALENDAR
VERSION:2.0
PRODID:-//Le Rupiant - ECPv6.15.20//NONSGML v1.0//EN
CALSCALE:GREGORIAN
METHOD:PUBLISH
X-WR-CALNAME:Le Rupiant
X-ORIGINAL-URL:https://capitedurupiant.ch
X-WR-CALDESC:Évènements pour Le Rupiant
REFRESH-INTERVAL;VALUE=DURATION:PT1H
X-Robots-Tag:noindex
X-PUBLISHED-TTL:PT1H
BEGIN:VTIMEZONE
TZID:Europe/Zurich
BEGIN:DAYLIGHT
TZOFFSETFROM:+0100
TZOFFSETTO:+0200
TZNAME:CEST
DTSTART:20250330T010000
END:DAYLIGHT
BEGIN:STANDARD
TZOFFSETFROM:+0200
TZOFFSETTO:+0100
TZNAME:CET
DTSTART:20251026T010000
END:STANDARD
BEGIN:DAYLIGHT
TZOFFSETFROM:+0100
TZOFFSETTO:+0200
TZNAME:CEST
DTSTART:20260329T010000
END:DAYLIGHT
BEGIN:STANDARD
TZOFFSETFROM:+0200
TZOFFSETTO:+0100
TZNAME:CET
DTSTART:20261025T010000
END:STANDARD
BEGIN:DAYLIGHT
TZOFFSETFROM:+0100
TZOFFSETTO:+0200
TZNAME:CEST
DTSTART:20270328T010000
END:DAYLIGHT
BEGIN:STANDARD
TZOFFSETFROM:+0200
TZOFFSETTO:+0100
TZNAME:CET
DTSTART:20271031T010000
END:STANDARD
END:VTIMEZONE
BEGIN:VEVENT
DTSTART;VALUE=DATE:20260920
DTEND;VALUE=DATE:20260921
DTSTAMP:20260422T223922
CREATED:20250909T164019Z
LAST-MODIFIED:20260421T143830Z
UID:31133-1789862400-1789948799@capitedurupiant.ch
SUMMARY:Balade Gourmande d'Arnex-sur-Orbe
DESCRIPTION:Organisée par le groupement des vignerons d’Arnex\, cette balade gourmande propose un itinéraire d’environ 5 km au cœur du vignoble des Côtes de l’Orbe.\nVous pourrez déguster\, au fil du parcours\, de nombreux vins accompagnés d’un menu préparé par nos partenaires régionaux. \nArnex-sur-Orbe est accessible en transport public.\nDépart dès 10h et jusqu’à 13h\, toutes les 15 minutes. \nDès 17h Concert ouvert à tous \nInscriptions obligatoires
URL:https://capitedurupiant.ch/event/balade-gourmande-darnex-sur-orbe/
CATEGORIES:Dégustation
ATTACH;FMTTYPE=image/png:https://capitedurupiant.ch/wp-content/uploads/2025/09/Capture-decran-2025-09-09-a-18.38.13.png
END:VEVENT
END:VCALENDAR